BEGIN:VCALENDAR
VERSION:2.0
PRODID:-//Biblioteka Publiczna Miasta i Gminy Łapy - ECPv6.15.20//NONSGML v1.0//EN
CALSCALE:GREGORIAN
METHOD:PUBLISH
X-WR-CALNAME:Biblioteka Publiczna Miasta i Gminy Łapy
X-ORIGINAL-URL:https://bibliotekalapy.pl
X-WR-CALDESC:Wydarzenia dla Biblioteka Publiczna Miasta i Gminy Łapy
REFRESH-INTERVAL;VALUE=DURATION:PT1H
X-Robots-Tag:noindex
X-PUBLISHED-TTL:PT1H
BEGIN:VTIMEZONE
TZID:Europe/Warsaw
BEGIN:DAYLIGHT
TZOFFSETFROM:+0100
TZOFFSETTO:+0200
TZNAME:CEST
DTSTART:20250330T010000
END:DAYLIGHT
BEGIN:STANDARD
TZOFFSETFROM:+0200
TZOFFSETTO:+0100
TZNAME:CET
DTSTART:20251026T010000
END:STANDARD
BEGIN:DAYLIGHT
TZOFFSETFROM:+0100
TZOFFSETTO:+0200
TZNAME:CEST
DTSTART:20260329T010000
END:DAYLIGHT
BEGIN:STANDARD
TZOFFSETFROM:+0200
TZOFFSETTO:+0100
TZNAME:CET
DTSTART:20261025T010000
END:STANDARD
BEGIN:DAYLIGHT
TZOFFSETFROM:+0100
TZOFFSETTO:+0200
TZNAME:CEST
DTSTART:20270328T010000
END:DAYLIGHT
BEGIN:STANDARD
TZOFFSETFROM:+0200
TZOFFSETTO:+0100
TZNAME:CET
DTSTART:20271031T010000
END:STANDARD
END:VTIMEZONE
BEGIN:VEVENT
DTSTART;TZID=Europe/Warsaw:20260113T170000
DTEND;TZID=Europe/Warsaw:20260113T170000
DTSTAMP:20260422T182441
CREATED:20251230T145229Z
LAST-MODIFIED:20251230T145229Z
UID:117530-1768323600-1768323600@bibliotekalapy.pl
SUMMARY:Kino Klaps
DESCRIPTION:
URL:https://bibliotekalapy.pl/event/kino-klaps-5/
ATTACH;FMTTYPE=image/png:https://bibliotekalapy.pl/wp-content/uploads/2025/12/Kino-Klaps-1.png
END:VEVENT
BEGIN:VEVENT
DTSTART;TZID=Europe/Warsaw:20260115T110000
DTEND;TZID=Europe/Warsaw:20260115T110000
DTSTAMP:20260422T182441
CREATED:20251230T145427Z
LAST-MODIFIED:20251230T145427Z
UID:117533-1768474800-1768474800@bibliotekalapy.pl
SUMMARY:„Pamiętajmy o ogrodach\, przecież stamtąd przyszliśmy” – spotkanie prowadzi Teresa Roszkowska
DESCRIPTION:
URL:https://bibliotekalapy.pl/event/pamietajmy-o-ogrodach-przeciez-stamtad-przyszlismy-spotkanie-prowadzi-teresa-roszkowska/
ATTACH;FMTTYPE=image/png:https://bibliotekalapy.pl/wp-content/uploads/2025/12/Plan-UTW-scaled.png
END:VEVENT
BEGIN:VEVENT
DTSTART;TZID=Europe/Warsaw:20260122T110000
DTEND;TZID=Europe/Warsaw:20260122T110000
DTSTAMP:20260422T182441
CREATED:20251230T145547Z
LAST-MODIFIED:20251230T145547Z
UID:117535-1769079600-1769079600@bibliotekalapy.pl
SUMMARY:Ogólnopolska akcja dla seniorów „NIE DAJ SIĘ OSZUKAĆ! Razem Bezpieczniej”
DESCRIPTION:
URL:https://bibliotekalapy.pl/event/ogolnopolska-akcja-dla-seniorow-nie-daj-sie-oszukac-razem-bezpieczniej/
ATTACH;FMTTYPE=image/png:https://bibliotekalapy.pl/wp-content/uploads/2025/12/Plan-UTW-scaled.png
END:VEVENT
BEGIN:VEVENT
DTSTART;TZID=Europe/Warsaw:20260123T170000
DTEND;TZID=Europe/Warsaw:20260123T170000
DTSTAMP:20260422T182441
CREATED:20260108T155023Z
LAST-MODIFIED:20260108T155718Z
UID:117694-1769187600-1769187600@bibliotekalapy.pl
SUMMARY:W zimowy wieczór porozmawiajmy o wierszach… Do rozmowy o poezji Anny Kamieńskiej zaprasza Iwona Jaźwińska
DESCRIPTION:
URL:https://bibliotekalapy.pl/event/w-zimowy-wieczor-porozmawiajmy-o-wierszach-do-rozmowy-o-poezji-anny-kamienskiej-zaprasza-iwona-jazwinska/
ATTACH;FMTTYPE=image/png:https://bibliotekalapy.pl/wp-content/uploads/2026/01/wieczor-scaled.png
END:VEVENT
BEGIN:VEVENT
DTSTART;TZID=Europe/Warsaw:20260129T110000
DTEND;TZID=Europe/Warsaw:20260129T110000
DTSTAMP:20260422T182441
CREATED:20251230T145711Z
LAST-MODIFIED:20251230T145711Z
UID:117537-1769684400-1769684400@bibliotekalapy.pl
SUMMARY:„Smaki w naszych wspomnieniach” – spotkanie z Iwoną Jaźwińską  z cyklu OTWARTY UMYSŁ
DESCRIPTION:
URL:https://bibliotekalapy.pl/event/smaki-w-naszych-wspomnieniach-spotkanie-z-iwona-jazwinska-z-cyklu-otwarty-umysl/
ATTACH;FMTTYPE=image/png:https://bibliotekalapy.pl/wp-content/uploads/2025/12/Plan-UTW-scaled.png
END:VEVENT
BEGIN:VEVENT
DTSTART;TZID=Europe/Warsaw:20260210T170000
DTEND;TZID=Europe/Warsaw:20260210T170000
DTSTAMP:20260422T182441
CREATED:20260205T163256Z
LAST-MODIFIED:20260205T163256Z
UID:118649-1770742800-1770742800@bibliotekalapy.pl
SUMMARY:Kino Klaps
DESCRIPTION:
URL:https://bibliotekalapy.pl/event/kino-klaps-6/
ATTACH;FMTTYPE=image/png:https://bibliotekalapy.pl/wp-content/uploads/2026/02/Kino-Klaps.png
END:VEVENT
BEGIN:VEVENT
DTSTART;TZID=Europe/Warsaw:20260212T110000
DTEND;TZID=Europe/Warsaw:20260212T110000
DTSTAMP:20260422T182441
CREATED:20260205T163510Z
LAST-MODIFIED:20260205T163510Z
UID:118652-1770894000-1770894000@bibliotekalapy.pl
SUMMARY:„Z krzyżówką przez życie” – spotkanie poprowadzi Janusz Jamiołkowski
DESCRIPTION:
URL:https://bibliotekalapy.pl/event/z-krzyzowka-przez-zycie-spotkanie-poprowadzi-janusz-jamiolkowski/
ATTACH;FMTTYPE=image/png:https://bibliotekalapy.pl/wp-content/uploads/2026/01/plan-UTW-luty-2026-scaled.png
END:VEVENT
BEGIN:VEVENT
DTSTART;TZID=Europe/Warsaw:20260216T153000
DTEND;TZID=Europe/Warsaw:20260216T153000
DTSTAMP:20260422T182441
CREATED:20260204T093937Z
LAST-MODIFIED:20260204T093937Z
UID:118614-1771255800-1771255800@bibliotekalapy.pl
SUMMARY:Spotkanie autorskie z Markiem Kamińskim – zdobywcą biegunów\, podróżnikiem i innowatorem
DESCRIPTION:
URL:https://bibliotekalapy.pl/event/spotkanie-autorskie-z-markiem-kaminskim-zdobywca-biegunow-podroznikiem-i-innowatorem/
ATTACH;FMTTYPE=image/png:https://bibliotekalapy.pl/wp-content/uploads/2026/02/MK-scaled.png
END:VEVENT
BEGIN:VEVENT
DTSTART;TZID=Europe/Warsaw:20260226T110000
DTEND;TZID=Europe/Warsaw:20260226T110000
DTSTAMP:20260422T182441
CREATED:20260205T163834Z
LAST-MODIFIED:20260205T163834Z
UID:118654-1772103600-1772103600@bibliotekalapy.pl
SUMMARY:„Być bliżej siebie – zasady dojrzałej komunikacji” – spotkanie z Iwoną Jaźwińską z cyklu OTWARTY UMYSŁ
DESCRIPTION:
URL:https://bibliotekalapy.pl/event/byc-blizej-siebie-zasady-dojrzalej-komunikacji-spotkanie-z-iwona-jazwinska-z-cyklu-otwarty-umysl/
ATTACH;FMTTYPE=image/png:https://bibliotekalapy.pl/wp-content/uploads/2026/01/plan-UTW-luty-2026-scaled.png
END:VEVENT
BEGIN:VEVENT
DTSTART;TZID=Europe/Warsaw:20260227T170000
DTEND;TZID=Europe/Warsaw:20260227T170000
DTSTAMP:20260422T182441
CREATED:20260205T161737Z
LAST-MODIFIED:20260205T161738Z
UID:118647-1772211600-1772211600@bibliotekalapy.pl
SUMMARY:W zimowy wieczór porozmawiajmy o wierszach… Do rozmowy o poezji Tadeusza Różewicza zaprasza Iwona Jaźwińska
DESCRIPTION:
URL:https://bibliotekalapy.pl/event/w-zimowy-wieczor-porozmawiajmy-o-wierszach-do-rozmowy-o-poezji-tadeusza-rozewicza-zaprasza-iwona-jazwinska/
ATTACH;FMTTYPE=image/png:https://bibliotekalapy.pl/wp-content/uploads/2026/02/Rozewicz.png
END:VEVENT
BEGIN:VEVENT
DTSTART;TZID=Europe/Warsaw:20260305T110000
DTEND;TZID=Europe/Warsaw:20260305T110000
DTSTAMP:20260422T182441
CREATED:20260225T115454Z
LAST-MODIFIED:20260225T115455Z
UID:118975-1772708400-1772708400@bibliotekalapy.pl
SUMMARY:Spotkanie autorskie z Basią Birycką „Magia Drugiego Życia: Jak szycie z odzysku zmieniło babcine kapy w VanNerki”
DESCRIPTION:
URL:https://bibliotekalapy.pl/event/spotkanie-autorskie-z-basia-birycka-magia-drugiego-zycia-jak-szycie-z-odzysku-zmienilo-babcine-kapy-w-vannerki/
ATTACH;FMTTYPE=image/png:https://bibliotekalapy.pl/wp-content/uploads/2026/02/Spotkanie-autorskie-scaled.png
END:VEVENT
BEGIN:VEVENT
DTSTART;TZID=Europe/Warsaw:20260310T170000
DTEND;TZID=Europe/Warsaw:20260310T170000
DTSTAMP:20260422T182441
CREATED:20260226T104436Z
LAST-MODIFIED:20260226T104436Z
UID:118983-1773162000-1773162000@bibliotekalapy.pl
SUMMARY:Kino Klaps
DESCRIPTION:
URL:https://bibliotekalapy.pl/event/kino-klaps-7/
ATTACH;FMTTYPE=image/png:https://bibliotekalapy.pl/wp-content/uploads/2026/02/Kino-Klaps-.png
END:VEVENT
BEGIN:VEVENT
DTSTART;TZID=Europe/Warsaw:20260312T110000
DTEND;TZID=Europe/Warsaw:20260312T110000
DTSTAMP:20260422T182441
CREATED:20260226T104620Z
LAST-MODIFIED:20260227T104333Z
UID:118986-1773313200-1773313200@bibliotekalapy.pl
SUMMARY:Spotkanie z pszczelarzem Marcinem Kruszewskim\, laureatem piątej edycji konkursu „Pszczelarz Roku 2025” organizowanego przez Samorząd Województwa Podlaskiego
DESCRIPTION:
URL:https://bibliotekalapy.pl/event/spotkanie-z-pszczelarzem-marcinem-kruszewskim-laureatem-piatej-edycji-konkursu-pszczelarz-roku-2025-organizowanego-przez-samorzad-wojewodztwa-podlaskiego/
ATTACH;FMTTYPE=image/png:https://bibliotekalapy.pl/wp-content/uploads/2026/02/marzec-2026-scaled.png
END:VEVENT
BEGIN:VEVENT
DTSTART;TZID=Europe/Warsaw:20260413T110000
DTEND;TZID=Europe/Warsaw:20260413T110000
DTSTAMP:20260422T182441
CREATED:20260326T155601Z
LAST-MODIFIED:20260327T112316Z
UID:120793-1776078000-1776078000@bibliotekalapy.pl
SUMMARY:„Znaczenie kultury w życiu człowieka” – wykład Doroty Frasunkiewicz\, medioznawcy\, muzykologa\, etnomuzykologa\, wykładowcy akademickiego
DESCRIPTION:
URL:https://bibliotekalapy.pl/event/znaczenie-kultury-w-zyciu-czlowieka-wyklad-doroty-frasunkiewicz-medioznawcy-muzykologa-etnomuzykologa-wykladowcy-akademickiego/
ATTACH;FMTTYPE=image/png:https://bibliotekalapy.pl/wp-content/uploads/2026/03/plan-kwiecien-scaled.png
END:VEVENT
BEGIN:VEVENT
DTSTART;TZID=Europe/Warsaw:20260414T170000
DTEND;TZID=Europe/Warsaw:20260414T170000
DTSTAMP:20260422T182441
CREATED:20260326T155915Z
LAST-MODIFIED:20260326T155916Z
UID:120795-1776186000-1776186000@bibliotekalapy.pl
SUMMARY:Kino Klaps
DESCRIPTION:
URL:https://bibliotekalapy.pl/event/kino-klaps-8/
ATTACH;FMTTYPE=image/png:https://bibliotekalapy.pl/wp-content/uploads/2026/03/Kino-Klaps.png
END:VEVENT
BEGIN:VEVENT
DTSTART;TZID=Europe/Warsaw:20260416T110000
DTEND;TZID=Europe/Warsaw:20260416T110000
DTSTAMP:20260422T182441
CREATED:20260326T160039Z
LAST-MODIFIED:20260327T112350Z
UID:120798-1776337200-1776337200@bibliotekalapy.pl
SUMMARY:„Konstruktywna krytyka – TAK. Hejt – NIE!” – spotkanie z Iwoną Jaźwińską z cyklu OTWARTY UMYSŁ
DESCRIPTION:
URL:https://bibliotekalapy.pl/event/konstruktywna-krytyka-tak-hejt-nie-spotkanie-z-iwona-jazwinska-z-cyklu-otwarty-umysl/
ATTACH;FMTTYPE=image/png:https://bibliotekalapy.pl/wp-content/uploads/2026/03/plan-kwiecien-scaled.png
END:VEVENT
BEGIN:VEVENT
DTSTART;TZID=Europe/Warsaw:20260423T110000
DTEND;TZID=Europe/Warsaw:20260423T110000
DTSTAMP:20260422T182441
CREATED:20260415T090514Z
LAST-MODIFIED:20260415T090514Z
UID:121090-1776942000-1776942000@bibliotekalapy.pl
SUMMARY:Spotkanie autorskie z Maciejem Falkowskim
DESCRIPTION:
URL:https://bibliotekalapy.pl/event/spotkanie-autorskie-z-maciejem-falkowskim/
ATTACH;FMTTYPE=image/png:https://bibliotekalapy.pl/wp-content/uploads/2026/04/spotkanie-autorskie-scaled.png
END:VEVENT
BEGIN:VEVENT
DTSTART;TZID=Europe/Warsaw:20260424T100000
DTEND;TZID=Europe/Warsaw:20260424T100000
DTSTAMP:20260422T182441
CREATED:20260326T160215Z
LAST-MODIFIED:20260327T112423Z
UID:120800-1777024800-1777024800@bibliotekalapy.pl
SUMMARY:„Motylowe warsztaty umysłowe” – prowadzi Marzena Pytel\, założycielka zespołu gospelowego Unisono
DESCRIPTION:
URL:https://bibliotekalapy.pl/event/motylowe-warsztaty-umyslowe-prowadzi-marzena-pytel-zalozycielka-zespolu-gospelowego-unisono/
ATTACH;FMTTYPE=image/png:https://bibliotekalapy.pl/wp-content/uploads/2026/03/plan-kwiecien-scaled.png
END:VEVENT
END:VCALENDAR