BEGIN:VCALENDAR
VERSION:2.0
PRODID:-//Biblioteka Publiczna Miasta i Gminy Łapy - ECPv6.15.20//NONSGML v1.0//EN
CALSCALE:GREGORIAN
METHOD:PUBLISH
X-WR-CALNAME:Biblioteka Publiczna Miasta i Gminy Łapy
X-ORIGINAL-URL:https://bibliotekalapy.pl
X-WR-CALDESC:Wydarzenia dla Biblioteka Publiczna Miasta i Gminy Łapy
REFRESH-INTERVAL;VALUE=DURATION:PT1H
X-Robots-Tag:noindex
X-PUBLISHED-TTL:PT1H
BEGIN:VTIMEZONE
TZID:Europe/Warsaw
BEGIN:DAYLIGHT
TZOFFSETFROM:+0100
TZOFFSETTO:+0200
TZNAME:CEST
DTSTART:20240331T010000
END:DAYLIGHT
BEGIN:STANDARD
TZOFFSETFROM:+0200
TZOFFSETTO:+0100
TZNAME:CET
DTSTART:20241027T010000
END:STANDARD
BEGIN:DAYLIGHT
TZOFFSETFROM:+0100
TZOFFSETTO:+0200
TZNAME:CEST
DTSTART:20250330T010000
END:DAYLIGHT
BEGIN:STANDARD
TZOFFSETFROM:+0200
TZOFFSETTO:+0100
TZNAME:CET
DTSTART:20251026T010000
END:STANDARD
BEGIN:DAYLIGHT
TZOFFSETFROM:+0100
TZOFFSETTO:+0200
TZNAME:CEST
DTSTART:20260329T010000
END:DAYLIGHT
BEGIN:STANDARD
TZOFFSETFROM:+0200
TZOFFSETTO:+0100
TZNAME:CET
DTSTART:20261025T010000
END:STANDARD
END:VTIMEZONE
BEGIN:VEVENT
DTSTART;TZID=Europe/Warsaw:20251107T100000
DTEND;TZID=Europe/Warsaw:20251107T100000
DTSTAMP:20260422T200721
CREATED:20251028T162216Z
LAST-MODIFIED:20251028T162217Z
UID:116534-1762509600-1762509600@bibliotekalapy.pl
SUMMARY:Warsztaty z cyberbezpieczeństwa dla seniorów  60+ SENIOR
DESCRIPTION:
URL:https://bibliotekalapy.pl/event/warsztaty-z-cyberbezpieczenstwa-dla-seniorow-60-senior/
ATTACH;FMTTYPE=image/jpeg:https://bibliotekalapy.pl/wp-content/uploads/2025/10/20251022124245993_0001-scaled.jpg
END:VEVENT
BEGIN:VEVENT
DTSTART;TZID=Europe/Warsaw:20251112T110000
DTEND;TZID=Europe/Warsaw:20251112T110000
DTSTAMP:20260422T200721
CREATED:20251104T134602Z
LAST-MODIFIED:20251104T185136Z
UID:116671-1762945200-1762945200@bibliotekalapy.pl
SUMMARY:Spotkanie z okazji Narodowego Święta Niepodległości
DESCRIPTION:
URL:https://bibliotekalapy.pl/event/spotkanie-z-okazji-narodowego-swieta-niepodleglosci/
ATTACH;FMTTYPE=image/png:https://bibliotekalapy.pl/wp-content/uploads/2025/11/UTW-11-LISTOPADA.png
END:VEVENT
BEGIN:VEVENT
DTSTART;TZID=Europe/Warsaw:20251113T100000
DTEND;TZID=Europe/Warsaw:20251113T100000
DTSTAMP:20260422T200721
CREATED:20251113T091225Z
LAST-MODIFIED:20251113T091225Z
UID:116693-1763028000-1763028000@bibliotekalapy.pl
SUMMARY:Wykład dr hab. Anny Puścion-Jakubik pt. „Suplementy diety a zdrowie seniora – czym kierować się przy wyborze preparatów”
DESCRIPTION:
URL:https://bibliotekalapy.pl/event/wyklad-dr-hab-anny-puscion-jakubik-pt-suplementy-diety-a-zdrowie-seniora-czym-kierowac-sie-przy-wyborze-preparatow/
ATTACH;FMTTYPE=image/png:https://bibliotekalapy.pl/wp-content/uploads/2025/11/suplementy.png
END:VEVENT
BEGIN:VEVENT
DTSTART;TZID=Europe/Warsaw:20251114T100000
DTEND;TZID=Europe/Warsaw:20251114T100000
DTSTAMP:20260422T200721
CREATED:20251028T162424Z
LAST-MODIFIED:20251028T162424Z
UID:116536-1763114400-1763114400@bibliotekalapy.pl
SUMMARY:Warsztaty z cyberbezpieczeństwa dla seniorów  60+ SENIOR
DESCRIPTION:
URL:https://bibliotekalapy.pl/event/warsztaty-z-cyberbezpieczenstwa-dla-seniorow-60-senior-2/
ATTACH;FMTTYPE=image/jpeg:https://bibliotekalapy.pl/wp-content/uploads/2025/10/20251022124245993_0001-scaled.jpg
END:VEVENT
BEGIN:VEVENT
DTSTART;TZID=Europe/Warsaw:20251118T170000
DTEND;TZID=Europe/Warsaw:20251118T170000
DTSTAMP:20260422T200721
CREATED:20251028T162926Z
LAST-MODIFIED:20251028T162926Z
UID:116540-1763485200-1763485200@bibliotekalapy.pl
SUMMARY:Kino Klaps
DESCRIPTION:
URL:https://bibliotekalapy.pl/event/kino-klaps-3/
ATTACH;FMTTYPE=image/png:https://bibliotekalapy.pl/wp-content/uploads/2025/10/Kino-Klaps.png
END:VEVENT
BEGIN:VEVENT
DTSTART;TZID=Europe/Warsaw:20251121T170000
DTEND;TZID=Europe/Warsaw:20251121T170000
DTSTAMP:20260422T200721
CREATED:20251118T094102Z
LAST-MODIFIED:20251118T094102Z
UID:116842-1763744400-1763744400@bibliotekalapy.pl
SUMMARY:W jesienny wieczór porozmawiajmy o wierszach… Do rozmowy o poezji Czesława Miłosza zaprasza Iwona Jaźwińska
DESCRIPTION:
URL:https://bibliotekalapy.pl/event/w-jesienny-wieczor-porozmawiajmy-o-wierszach-do-rozmowy-o-poezji-czeslawa-milosza-zaprasza-iwona-jazwinska/
ATTACH;FMTTYPE=image/jpeg:https://bibliotekalapy.pl/wp-content/uploads/2025/11/579348594_1292481126252319_3490390307263874675_n.jpg
END:VEVENT
BEGIN:VEVENT
DTSTART;TZID=Europe/Warsaw:20251125T110000
DTEND;TZID=Europe/Warsaw:20251125T110000
DTSTAMP:20260422T200721
CREATED:20251118T090816Z
LAST-MODIFIED:20251118T090817Z
UID:116815-1764068400-1764068400@bibliotekalapy.pl
SUMMARY:Uroczyste zakończenie III edycji zadania „W zdrowym ciele zdrowy duch” – program zajęć rehabilitacyjnych oraz profilaktyki i edukacji prozdrowotnej seniorów
DESCRIPTION:
URL:https://bibliotekalapy.pl/event/uroczyste-zakonczenie-iii-edycji-zadania-w-zdrowym-ciele-zdrowy-duch-program-zajec-rehabilitacyjnych-oraz-profilaktyki-i-edukacji-prozdrowotnej-seniorow/
ATTACH;FMTTYPE=image/jpeg:https://bibliotekalapy.pl/wp-content/uploads/2025/11/579634367_1296614582505640_4950423081980994829_n.jpg
END:VEVENT
BEGIN:VEVENT
DTSTART;TZID=Europe/Warsaw:20251127T110000
DTEND;TZID=Europe/Warsaw:20251127T110000
DTSTAMP:20260422T200721
CREATED:20251028T163049Z
LAST-MODIFIED:20251029T073851Z
UID:116543-1764241200-1764241200@bibliotekalapy.pl
SUMMARY:„Zapachy w naszych wspomnieniach” – spotkanie z Iwoną Jaźwińską z cyklu OTWARTY UMYSŁ
DESCRIPTION:
URL:https://bibliotekalapy.pl/event/zapachy-w-naszych-wspomnieniach-spotkanie-z-iwona-jazwinska-z-cyklu-otwarty-umysl/
ATTACH;FMTTYPE=image/png:https://bibliotekalapy.pl/wp-content/uploads/2025/10/UTW-1.png
END:VEVENT
BEGIN:VEVENT
DTSTART;TZID=Europe/Warsaw:20251128T110000
DTEND;TZID=Europe/Warsaw:20251128T110000
DTSTAMP:20260422T200721
CREATED:20251118T095059Z
LAST-MODIFIED:20251118T102547Z
UID:116850-1764327600-1764327600@bibliotekalapy.pl
SUMMARY:Spotkanie z Anną Gumowską i jej przyjaciółmi z Grupy Biegowej Zwycięzca
DESCRIPTION:
URL:https://bibliotekalapy.pl/event/spotkanie-z-anna-gumowska-i-jej-przyjaciolmi-z-grupy-biegowej-zwyciezca/
ATTACH;FMTTYPE=image/png:https://bibliotekalapy.pl/wp-content/uploads/2025/11/spotkanie-z-Anna-Gumowska.png
END:VEVENT
END:VCALENDAR