BEGIN:VCALENDAR
VERSION:2.0
PRODID:-//Biblioteka Publiczna Miasta i Gminy Łapy - ECPv6.15.20//NONSGML v1.0//EN
CALSCALE:GREGORIAN
METHOD:PUBLISH
X-WR-CALNAME:Biblioteka Publiczna Miasta i Gminy Łapy
X-ORIGINAL-URL:https://bibliotekalapy.pl
X-WR-CALDESC:Wydarzenia dla Biblioteka Publiczna Miasta i Gminy Łapy
REFRESH-INTERVAL;VALUE=DURATION:PT1H
X-Robots-Tag:noindex
X-PUBLISHED-TTL:PT1H
BEGIN:VTIMEZONE
TZID:Europe/Warsaw
BEGIN:DAYLIGHT
TZOFFSETFROM:+0100
TZOFFSETTO:+0200
TZNAME:CEST
DTSTART:20240331T010000
END:DAYLIGHT
BEGIN:STANDARD
TZOFFSETFROM:+0200
TZOFFSETTO:+0100
TZNAME:CET
DTSTART:20241027T010000
END:STANDARD
BEGIN:DAYLIGHT
TZOFFSETFROM:+0100
TZOFFSETTO:+0200
TZNAME:CEST
DTSTART:20250330T010000
END:DAYLIGHT
BEGIN:STANDARD
TZOFFSETFROM:+0200
TZOFFSETTO:+0100
TZNAME:CET
DTSTART:20251026T010000
END:STANDARD
BEGIN:DAYLIGHT
TZOFFSETFROM:+0100
TZOFFSETTO:+0200
TZNAME:CEST
DTSTART:20260329T010000
END:DAYLIGHT
BEGIN:STANDARD
TZOFFSETFROM:+0200
TZOFFSETTO:+0100
TZNAME:CET
DTSTART:20261025T010000
END:STANDARD
END:VTIMEZONE
BEGIN:VEVENT
DTSTART;TZID=Europe/Warsaw:20251203T110000
DTEND;TZID=Europe/Warsaw:20251203T110000
DTSTAMP:20260422T182746
CREATED:20251124T115224Z
LAST-MODIFIED:20251124T115225Z
UID:116977-1764759600-1764759600@bibliotekalapy.pl
SUMMARY:Zakończenie projektu UTW „Co słychać u naszych sąsiadów”
DESCRIPTION:
URL:https://bibliotekalapy.pl/event/zakonczenie-projektu-utw-co-slychac-u-naszych-sasiadow/
ATTACH;FMTTYPE=image/png:https://bibliotekalapy.pl/wp-content/uploads/2025/11/zakonczenie-projektu-UTW-scaled.png
END:VEVENT
BEGIN:VEVENT
DTSTART;TZID=Europe/Warsaw:20251208T143000
DTEND;TZID=Europe/Warsaw:20251208T143000
DTSTAMP:20260422T182746
CREATED:20251202T125629Z
LAST-MODIFIED:20251202T125629Z
UID:117110-1765204200-1765204200@bibliotekalapy.pl
SUMMARY:Spotkanie wigilijne seniorów z gminy Łapy
DESCRIPTION:
URL:https://bibliotekalapy.pl/event/spotkanie-wigilijne-seniorow-z-gminy-lapy/
ATTACH;FMTTYPE=image/png:https://bibliotekalapy.pl/wp-content/uploads/2025/11/Spotkanie-Wigilijne-plakat.png
END:VEVENT
BEGIN:VEVENT
DTSTART;TZID=Europe/Warsaw:20251209T170000
DTEND;TZID=Europe/Warsaw:20251209T170000
DTSTAMP:20260422T182746
CREATED:20251202T125913Z
LAST-MODIFIED:20251202T125913Z
UID:117113-1765299600-1765299600@bibliotekalapy.pl
SUMMARY:Kino Klaps
DESCRIPTION:
URL:https://bibliotekalapy.pl/event/kino-klaps-4/
ATTACH;FMTTYPE=image/png:https://bibliotekalapy.pl/wp-content/uploads/2025/12/Kino-Klaps.png
END:VEVENT
BEGIN:VEVENT
DTSTART;TZID=Europe/Warsaw:20251213T180000
DTEND;TZID=Europe/Warsaw:20251213T180000
DTSTAMP:20260422T182746
CREATED:20251209T101245Z
LAST-MODIFIED:20251209T101245Z
UID:117297-1765648800-1765648800@bibliotekalapy.pl
SUMMARY:Fiołek & Aleksandra Łapińska – Coś pomiędzy\, czyli małe-duże granie (koncert)
DESCRIPTION:
URL:https://bibliotekalapy.pl/event/fiolek-aleksandra-lapinska-cos-pomiedzy-czyli-male-duze-granie-koncert/
ATTACH;FMTTYPE=image/jpeg:https://bibliotekalapy.pl/wp-content/uploads/2025/12/10-2.jpg
END:VEVENT
BEGIN:VEVENT
DTSTART;TZID=Europe/Warsaw:20251216T100000
DTEND;TZID=Europe/Warsaw:20251216T100000
DTSTAMP:20260422T182746
CREATED:20251202T130116Z
LAST-MODIFIED:20251202T130117Z
UID:117116-1765879200-1765879200@bibliotekalapy.pl
SUMMARY:Pielęgnacja twarzy – spotkanie kosmetyczne o doborze kosmetyków do makijażu - prowadzi Elżbieta Zalewska
DESCRIPTION:
URL:https://bibliotekalapy.pl/event/pielegnacja-twarzy-spotkanie-kosmetyczne-o-doborze-kosmetykow-do-makijazu-prowadzi-elzbieta-zalewska/
ATTACH;FMTTYPE=image/png:https://bibliotekalapy.pl/wp-content/uploads/2025/11/Plan-UTW-grudzien.png
END:VEVENT
BEGIN:VEVENT
DTSTART;TZID=Europe/Warsaw:20251229T170000
DTEND;TZID=Europe/Warsaw:20251229T170000
DTSTAMP:20260422T182746
CREATED:20251208T071342Z
LAST-MODIFIED:20251208T071343Z
UID:117254-1767027600-1767027600@bibliotekalapy.pl
SUMMARY:W zimowy wieczór porozmawiajmy o wierszach… Do rozmowy o poezji Wisławy Szymborskiej zaprasza Iwona Jaźwińska
DESCRIPTION:
URL:https://bibliotekalapy.pl/event/w-zimowy-wieczor-porozmawiajmy-o-wierszach-do-rozmowy-o-poezji-wislawy-szymborskiej-zaprasza-iwona-jazwinska/
ATTACH;FMTTYPE=image/png:https://bibliotekalapy.pl/wp-content/uploads/2025/12/Porozmawiajmy-o-wierszach-scaled.png
END:VEVENT
END:VCALENDAR